BEGIN:VCALENDAR
VERSION:2.0
PRODID:-//ITIE Tchad - ECPv6.15.20//NONSGML v1.0//EN
CALSCALE:GREGORIAN
METHOD:PUBLISH
X-WR-CALNAME:ITIE Tchad
X-ORIGINAL-URL:https://itie-chad.org
X-WR-CALDESC:Évènements pour ITIE Tchad
REFRESH-INTERVAL;VALUE=DURATION:PT1H
X-Robots-Tag:noindex
X-PUBLISHED-TTL:PT1H
BEGIN:VTIMEZONE
TZID:Europe/Paris
BEGIN:DAYLIGHT
TZOFFSETFROM:+0100
TZOFFSETTO:+0200
TZNAME:CEST
DTSTART:20220327T010000
END:DAYLIGHT
BEGIN:STANDARD
TZOFFSETFROM:+0200
TZOFFSETTO:+0100
TZNAME:CET
DTSTART:20221030T010000
END:STANDARD
BEGIN:DAYLIGHT
TZOFFSETFROM:+0100
TZOFFSETTO:+0200
TZNAME:CEST
DTSTART:20230326T010000
END:DAYLIGHT
BEGIN:STANDARD
TZOFFSETFROM:+0200
TZOFFSETTO:+0100
TZNAME:CET
DTSTART:20231029T010000
END:STANDARD
BEGIN:DAYLIGHT
TZOFFSETFROM:+0100
TZOFFSETTO:+0200
TZNAME:CEST
DTSTART:20240331T010000
END:DAYLIGHT
BEGIN:STANDARD
TZOFFSETFROM:+0200
TZOFFSETTO:+0100
TZNAME:CET
DTSTART:20241027T010000
END:STANDARD
BEGIN:DAYLIGHT
TZOFFSETFROM:+0100
TZOFFSETTO:+0200
TZNAME:CEST
DTSTART:20250330T010000
END:DAYLIGHT
BEGIN:STANDARD
TZOFFSETFROM:+0200
TZOFFSETTO:+0100
TZNAME:CET
DTSTART:20251026T010000
END:STANDARD
BEGIN:DAYLIGHT
TZOFFSETFROM:+0100
TZOFFSETTO:+0200
TZNAME:CEST
DTSTART:20260329T010000
END:DAYLIGHT
BEGIN:STANDARD
TZOFFSETFROM:+0200
TZOFFSETTO:+0100
TZNAME:CET
DTSTART:20261025T010000
END:STANDARD
END:VTIMEZONE
BEGIN:VEVENT
DTSTART;TZID=Europe/Paris:20251027T080000
DTEND;TZID=Europe/Paris:20251027T170000
DTSTAMP:20260423T180806
CREATED:20251027T105947Z
LAST-MODIFIED:20251027T110057Z
UID:4188-1761552000-1761584400@itie-chad.org
SUMMARY:Prochaine Evaluation du Tchad Avril 2026
DESCRIPTION:
URL:https://itie-chad.org/evenement/prochaine-evaluation-du-tchad-avril-2026/
END:VEVENT
BEGIN:VEVENT
DTSTART;TZID=Europe/Paris:20230907T080000
DTEND;TZID=Europe/Paris:20230907T170000
DTSTAMP:20260423T180806
CREATED:20230907T204937Z
LAST-MODIFIED:20230907T204937Z
UID:3947-1694073600-1694106000@itie-chad.org
SUMMARY:Elaboration du Plan de Travail Triennal 2024-2026 BAKARA du 11 au 13 Septembre 2023
DESCRIPTION:
URL:https://itie-chad.org/evenement/elaboration-du-plan-de-travail-triennal-2024-2026-bakara-du-11-au-13-septembre-2023/
CATEGORIES:Colloque
END:VEVENT
END:VCALENDAR